BEGIN:VCALENDAR
VERSION:2.0
PRODID:-//Towing Vessel Inspection Bureau - ECPv6.15.20//NONSGML v1.0//EN
CALSCALE:GREGORIAN
METHOD:PUBLISH
X-ORIGINAL-URL:https://www.thetvib.org
X-WR-CALDESC:Events for Towing Vessel Inspection Bureau
REFRESH-INTERVAL;VALUE=DURATION:PT1H
X-Robots-Tag:noindex
X-PUBLISHED-TTL:PT1H
BEGIN:VTIMEZONE
TZID:America/Chicago
BEGIN:DAYLIGHT
TZOFFSETFROM:-0600
TZOFFSETTO:-0500
TZNAME:CDT
DTSTART:20200308T080000
END:DAYLIGHT
BEGIN:STANDARD
TZOFFSETFROM:-0500
TZOFFSETTO:-0600
TZNAME:CST
DTSTART:20201101T070000
END:STANDARD
BEGIN:DAYLIGHT
TZOFFSETFROM:-0600
TZOFFSETTO:-0500
TZNAME:CDT
DTSTART:20210314T080000
END:DAYLIGHT
BEGIN:STANDARD
TZOFFSETFROM:-0500
TZOFFSETTO:-0600
TZNAME:CST
DTSTART:20211107T070000
END:STANDARD
BEGIN:DAYLIGHT
TZOFFSETFROM:-0600
TZOFFSETTO:-0500
TZNAME:CDT
DTSTART:20220313T080000
END:DAYLIGHT
BEGIN:STANDARD
TZOFFSETFROM:-0500
TZOFFSETTO:-0600
TZNAME:CST
DTSTART:20221106T070000
END:STANDARD
END:VTIMEZONE
BEGIN:VEVENT
DTSTART;TZID=America/Chicago:20210914T080000
DTEND;TZID=America/Chicago:20210916T170000
DTSTAMP:20260425T134949
CREATED:20210621T183223Z
LAST-MODIFIED:20210825T135740Z
UID:2864-1631606400-1631811600@www.thetvib.org
SUMMARY:Annual Survey of Towing Vessels Course
DESCRIPTION:  \n\n\n\n\nCourse Summary: \nThe Annual Survey of Towing Vessels VIRTUAL course is open to TVIB members and non-members alike. It has been designed to teach Subchapter M Annual Survey skills and knowledge to those who will be performing surveys as a part of an internal survey program\, as well as those who wish to hold the TVIB Certified Annual Surveyor credential to perform external surveys for TVIB. The course includes an online pre-course portion that MUST be completed prior to attending class. \nCourse Fee: \nNon-Members:   $1275 \nTVIB Members:  $975* \n*TVIB members receive a discount on TVIB courses.   \n\n\n\n\n\n\n\n\nDocumentation: \nPractical exercises\, quizzes\, a final exam and active participation in class are required to earn your certificate. \nCertification: \nIf you are planning to perform Subchapter M annual surveys for TVIB customers\, you may need to obtain a full credential. Please complete the External Surveyor Membership Application PRIOR to attending class. If you are an employee of a TVIB customer and will only perform internal annual surveys\, you do not need to complete the application. \nCancellation Policy: \nCancellations must be submitted one week (7 days) prior to the first day of the course. Please note that a cancellation fee of $150 will be charged. No refund will be issued for non-attendance without notification or for early withdrawal from a class.  Please send cancellation notifications to: daniellem@thetvib.org \nADA Requests: \nPlease alert us of any ADA needs that you may have upon registration so that proper arrangements can be made to accommodate you. Send your request to: daniellem@thetvib.org \n\n\n\n\nREGISTER  \n 
URL:https://www.thetvib.org/event/annual-survey-of-towing-vessels-course-3/
LOCATION:Virtual
END:VEVENT
END:VCALENDAR