BEGIN:VCALENDAR
VERSION:2.0
PRODID:-//Towing Vessel Inspection Bureau - ECPv6.15.20//NONSGML v1.0//EN
CALSCALE:GREGORIAN
METHOD:PUBLISH
X-WR-CALNAME:Towing Vessel Inspection Bureau
X-ORIGINAL-URL:https://www.thetvib.org
X-WR-CALDESC:Events for Towing Vessel Inspection Bureau
REFRESH-INTERVAL;VALUE=DURATION:PT1H
X-Robots-Tag:noindex
X-PUBLISHED-TTL:PT1H
BEGIN:VTIMEZONE
TZID:America/Chicago
BEGIN:DAYLIGHT
TZOFFSETFROM:-0600
TZOFFSETTO:-0500
TZNAME:CDT
DTSTART:20210314T080000
END:DAYLIGHT
BEGIN:STANDARD
TZOFFSETFROM:-0500
TZOFFSETTO:-0600
TZNAME:CST
DTSTART:20211107T070000
END:STANDARD
BEGIN:DAYLIGHT
TZOFFSETFROM:-0600
TZOFFSETTO:-0500
TZNAME:CDT
DTSTART:20220313T080000
END:DAYLIGHT
BEGIN:STANDARD
TZOFFSETFROM:-0500
TZOFFSETTO:-0600
TZNAME:CST
DTSTART:20221106T070000
END:STANDARD
BEGIN:DAYLIGHT
TZOFFSETFROM:-0600
TZOFFSETTO:-0500
TZNAME:CDT
DTSTART:20230312T080000
END:DAYLIGHT
BEGIN:STANDARD
TZOFFSETFROM:-0500
TZOFFSETTO:-0600
TZNAME:CST
DTSTART:20231105T070000
END:STANDARD
END:VTIMEZONE
BEGIN:VEVENT
DTSTART;TZID=America/Chicago:20220830T090000
DTEND;TZID=America/Chicago:20220901T170000
DTSTAMP:20260421T004015
CREATED:20220608T184546Z
LAST-MODIFIED:20220608T184546Z
UID:3319-1661850000-1662051600@www.thetvib.org
SUMMARY:Drydock/Internal Structural Examination Training Course
DESCRIPTION:Course Summary: \nThe Drydock/Internal Structural Examination Certification course (3 day VIRTUAL course) is open to TVIB members and non-members alike. The course provides surveyors who plan to conduct Subchapter M drydock and internal structural examinations of inspected towing vessels with the tools\, skills and knowledge to complete these examinations\, and provides a path toward an industry-recognized credential. . \nCourse Fee: \nNon-Members:   $1275 \nTVIB Members:  $975* \n*TVIB members & USCG receive a 25% discount when registering for the course.  Members can register through the Member Portal under the “Current Events” dropdown menu \nDocumentation: \nPractical exercises\, quizzes\, a final exam and active participation in class are required to earn your certificate. \nCancellation Policy: \nCancellations must be submitted one week (7 days) prior to the first day of the course.  Please note that a cancellation fee of $150 will be charged.  No refund will be issued for non-attendance without notification or for early withdrawal from a class.  Please send cancellation notifications to: daniellem@thetvib.org \nADA Requests: \nPlease alert us of any ADA needs that you may have upon registration so that proper arrangements can be made to accommodate you.  Send your request to: daniellem@thetvib.org \nRegister – Aug 30th
URL:https://www.thetvib.org/event/drydock-internal-structural-examination-training-course-2/
LOCATION:Virtual
END:VEVENT
END:VCALENDAR