BEGIN:VCALENDAR
VERSION:2.0
PRODID:-//Towing Vessel Inspection Bureau - ECPv6.15.20//NONSGML v1.0//EN
CALSCALE:GREGORIAN
METHOD:PUBLISH
X-ORIGINAL-URL:https://www.thetvib.org
X-WR-CALDESC:Events for Towing Vessel Inspection Bureau
REFRESH-INTERVAL;VALUE=DURATION:PT1H
X-Robots-Tag:noindex
X-PUBLISHED-TTL:PT1H
BEGIN:VTIMEZONE
TZID:America/Chicago
BEGIN:DAYLIGHT
TZOFFSETFROM:-0600
TZOFFSETTO:-0500
TZNAME:CDT
DTSTART:20210314T080000
END:DAYLIGHT
BEGIN:STANDARD
TZOFFSETFROM:-0500
TZOFFSETTO:-0600
TZNAME:CST
DTSTART:20211107T070000
END:STANDARD
BEGIN:DAYLIGHT
TZOFFSETFROM:-0600
TZOFFSETTO:-0500
TZNAME:CDT
DTSTART:20220313T080000
END:DAYLIGHT
BEGIN:STANDARD
TZOFFSETFROM:-0500
TZOFFSETTO:-0600
TZNAME:CST
DTSTART:20221106T070000
END:STANDARD
BEGIN:DAYLIGHT
TZOFFSETFROM:-0600
TZOFFSETTO:-0500
TZNAME:CDT
DTSTART:20230312T080000
END:DAYLIGHT
BEGIN:STANDARD
TZOFFSETFROM:-0500
TZOFFSETTO:-0600
TZNAME:CST
DTSTART:20231105T070000
END:STANDARD
END:VTIMEZONE
BEGIN:VEVENT
DTSTART;TZID=America/Chicago:20220728T140000
DTEND;TZID=America/Chicago:20220728T150000
DTSTAMP:20260421T090537
CREATED:20220614T192839Z
LAST-MODIFIED:20220614T192839Z
UID:3329-1659016800-1659020400@www.thetvib.org
SUMMARY:TVIB Talks- July 28th
DESCRIPTION:Don’t miss out on the the bi-monthly “TVIB Talks” on July 28th.  This series will offer TVIB staff the opportunity to share the latest developments\, issues\, and trends related to Subchapter M and our perspective on those topics.  Equally important will be the opportunity for TVIB Members (TPO Customers and their staff along with TVIB Certified Auditors and Surveyors) to participate in the conversation by talking with us about the information presented and sharing topics of interest to them. \nThese 1-hour sessions will follow a bi-monthly schedule occurring at 2:00 pm on the fourth Thursday. \nTVIB Talks will be open to all TVIB Members. TVIB Members can find the registration in the TVIB Portal. Please save the date for these sessions and we look forward to this new method of interacting with our members. \nFeel free to contact info@thetvib.org with any questions. \n  \nFuture TVIB Talks \nSeptember 22nd \nNovember 15th (TVIB Fall Info & Board Meeting)
URL:https://www.thetvib.org/event/tvib-talks-july-28th/
LOCATION:Virtual
END:VEVENT
END:VCALENDAR