BEGIN:VCALENDAR
VERSION:2.0
PRODID:-//Towing Vessel Inspection Bureau - ECPv6.15.20//NONSGML v1.0//EN
CALSCALE:GREGORIAN
METHOD:PUBLISH
X-WR-CALNAME:Towing Vessel Inspection Bureau
X-ORIGINAL-URL:https://www.thetvib.org
X-WR-CALDESC:Events for Towing Vessel Inspection Bureau
REFRESH-INTERVAL;VALUE=DURATION:PT1H
X-Robots-Tag:noindex
X-PUBLISHED-TTL:PT1H
BEGIN:VTIMEZONE
TZID:America/Chicago
BEGIN:DAYLIGHT
TZOFFSETFROM:-0600
TZOFFSETTO:-0500
TZNAME:CDT
DTSTART:20210314T080000
END:DAYLIGHT
BEGIN:STANDARD
TZOFFSETFROM:-0500
TZOFFSETTO:-0600
TZNAME:CST
DTSTART:20211107T070000
END:STANDARD
BEGIN:DAYLIGHT
TZOFFSETFROM:-0600
TZOFFSETTO:-0500
TZNAME:CDT
DTSTART:20220313T080000
END:DAYLIGHT
BEGIN:STANDARD
TZOFFSETFROM:-0500
TZOFFSETTO:-0600
TZNAME:CST
DTSTART:20221106T070000
END:STANDARD
BEGIN:DAYLIGHT
TZOFFSETFROM:-0600
TZOFFSETTO:-0500
TZNAME:CDT
DTSTART:20230312T080000
END:DAYLIGHT
BEGIN:STANDARD
TZOFFSETFROM:-0500
TZOFFSETTO:-0600
TZNAME:CST
DTSTART:20231105T070000
END:STANDARD
END:VTIMEZONE
BEGIN:VEVENT
DTSTART;TZID=America/Chicago:20220523T130000
DTEND;TZID=America/Chicago:20220523T150000
DTSTAMP:20260421T192624
CREATED:20220310T201625Z
LAST-MODIFIED:20220517T153818Z
UID:3226-1653310800-1653318000@www.thetvib.org
SUMMARY:TVIB Annual Membership and Board of Directors Spring Meeting
DESCRIPTION:Mark Your Calendars! TVIB Annual Membership Meeting and Board of Directors Spring Meeting will be held IN PERSON in St. Louis\, MO on Monday May 23rd at 1pm CST at The Dome at America’s Center\, in conjunction with the Inland Marine Expo show! \nAll members are welcome to join us in person or virtually for both meetings. A formal agenda and virtual registration links have posted for all meetings in the customer portal. Members will vote on the incoming Board of Directors and hear about the latest developments from TVIB staff.   \nAdditionally\, stop by booth 931 to meet the team anytime during the IMX show! \n* Please note\, you do NOT need to pay for and attend the IMX show to attend TVIB’s meetings. TVIB’s meetings are free. The IMX show registration is separate from TVIB’s Annual Membership Meeting and Board of Directors Meeting. To register for the IMX show\, click here.
URL:https://www.thetvib.org/event/tvib-annual-membership-meeting-and-board-of-directors-spring-meeting/
LOCATION:The Dome at America’s Center\, 701 Convention Plaza\, St. Louis\, MO\, 63101\, United States
END:VEVENT
END:VCALENDAR